BEGIN:VCALENDAR
VERSION:2.0
PRODID:-//Venue Chisca - ECPv6.15.15//NONSGML v1.0//EN
CALSCALE:GREGORIAN
METHOD:PUBLISH
X-WR-CALNAME:Venue Chisca
X-ORIGINAL-URL:https://www.venuechisca.com
X-WR-CALDESC:Events for Venue Chisca
REFRESH-INTERVAL;VALUE=DURATION:PT1H
X-Robots-Tag:noindex
X-PUBLISHED-TTL:PT1H
BEGIN:VTIMEZONE
TZID:America/Chicago
BEGIN:DAYLIGHT
TZOFFSETFROM:-0600
TZOFFSETTO:-0500
TZNAME:CDT
DTSTART:20250309T080000
END:DAYLIGHT
BEGIN:STANDARD
TZOFFSETFROM:-0500
TZOFFSETTO:-0600
TZNAME:CST
DTSTART:20251102T070000
END:STANDARD
BEGIN:DAYLIGHT
TZOFFSETFROM:-0600
TZOFFSETTO:-0500
TZNAME:CDT
DTSTART:20260308T080000
END:DAYLIGHT
BEGIN:STANDARD
TZOFFSETFROM:-0500
TZOFFSETTO:-0600
TZNAME:CST
DTSTART:20261101T070000
END:STANDARD
BEGIN:DAYLIGHT
TZOFFSETFROM:-0600
TZOFFSETTO:-0500
TZNAME:CDT
DTSTART:20270314T080000
END:DAYLIGHT
BEGIN:STANDARD
TZOFFSETFROM:-0500
TZOFFSETTO:-0600
TZNAME:CST
DTSTART:20271107T070000
END:STANDARD
END:VTIMEZONE
BEGIN:VEVENT
DTSTART;VALUE=DATE:20260703
DTEND;VALUE=DATE:20260704
DTSTAMP:20260422T050056
CREATED:20250916T201133Z
LAST-MODIFIED:20250916T201133Z
UID:10000318-1783036800-1783123199@www.venuechisca.com
SUMMARY:Olive & Oak
DESCRIPTION:
URL:https://www.venuechisca.com/cal/olive-oak-14/2026-07-03/
LOCATION:Olive & Oak Events
END:VEVENT
BEGIN:VEVENT
DTSTART;VALUE=DATE:20260710
DTEND;VALUE=DATE:20260711
DTSTAMP:20260422T050056
CREATED:20250916T201133Z
LAST-MODIFIED:20250916T201133Z
UID:10000319-1783641600-1783727999@www.venuechisca.com
SUMMARY:Olive & Oak
DESCRIPTION:
URL:https://www.venuechisca.com/cal/olive-oak-14/2026-07-10/
LOCATION:Olive & Oak Events
END:VEVENT
END:VCALENDAR