BEGIN:VCALENDAR
VERSION:2.0
PRODID:-//Venue Chisca - ECPv6.15.15//NONSGML v1.0//EN
CALSCALE:GREGORIAN
METHOD:PUBLISH
X-WR-CALNAME:Venue Chisca
X-ORIGINAL-URL:https://www.venuechisca.com
X-WR-CALDESC:Events for Venue Chisca
REFRESH-INTERVAL;VALUE=DURATION:PT1H
X-Robots-Tag:noindex
X-PUBLISHED-TTL:PT1H
BEGIN:VTIMEZONE
TZID:America/Chicago
BEGIN:DAYLIGHT
TZOFFSETFROM:-0600
TZOFFSETTO:-0500
TZNAME:CDT
DTSTART:20250309T080000
END:DAYLIGHT
BEGIN:STANDARD
TZOFFSETFROM:-0500
TZOFFSETTO:-0600
TZNAME:CST
DTSTART:20251102T070000
END:STANDARD
BEGIN:DAYLIGHT
TZOFFSETFROM:-0600
TZOFFSETTO:-0500
TZNAME:CDT
DTSTART:20260308T080000
END:DAYLIGHT
BEGIN:STANDARD
TZOFFSETFROM:-0500
TZOFFSETTO:-0600
TZNAME:CST
DTSTART:20261101T070000
END:STANDARD
BEGIN:DAYLIGHT
TZOFFSETFROM:-0600
TZOFFSETTO:-0500
TZNAME:CDT
DTSTART:20270314T080000
END:DAYLIGHT
BEGIN:STANDARD
TZOFFSETFROM:-0500
TZOFFSETTO:-0600
TZNAME:CST
DTSTART:20271107T070000
END:STANDARD
END:VTIMEZONE
BEGIN:VEVENT
DTSTART;VALUE=DATE:20260207
DTEND;VALUE=DATE:20260208
DTSTAMP:20260424T062744
CREATED:20250914T004710Z
LAST-MODIFIED:20250914T004710Z
UID:10000103-1770422400-1770508799@www.venuechisca.com
SUMMARY:Ballroom + Quarter
DESCRIPTION:
URL:https://www.venuechisca.com/cal/ballroom-quarter-3/2026-02-07/
LOCATION:Venue Chisca\, 1009 SW Washington St\, IL\, 61602\, United States
END:VEVENT
BEGIN:VEVENT
DTSTART;VALUE=DATE:20260207
DTEND;VALUE=DATE:20260208
DTSTAMP:20260424T062744
CREATED:20250914T004137Z
LAST-MODIFIED:20250914T004137Z
UID:10000081-1770422400-1770508799@www.venuechisca.com
SUMMARY:Memphis Room
DESCRIPTION:
URL:https://www.venuechisca.com/cal/memphis-room-7/2026-02-07/
LOCATION:Venue Chisca\, 1009 SW Washington St\, IL\, 61602\, United States
END:VEVENT
BEGIN:VEVENT
DTSTART;VALUE=DATE:20260206
DTEND;VALUE=DATE:20260207
DTSTAMP:20260424T062744
CREATED:20250916T192449Z
LAST-MODIFIED:20250916T192449Z
UID:10000236-1770336000-1770422399@www.venuechisca.com
SUMMARY:Olive & Oak
DESCRIPTION:
URL:https://www.venuechisca.com/cal/olive-oak-3/2026-02-06/
LOCATION:Venue Chisca\, 1009 SW Washington St\, IL\, 61602\, United States
END:VEVENT
BEGIN:VEVENT
DTSTART;VALUE=DATE:20260206
DTEND;VALUE=DATE:20260207
DTSTAMP:20260424T062744
CREATED:20250914T002158Z
LAST-MODIFIED:20250914T003458Z
UID:10000025-1770336000-1770422399@www.venuechisca.com
SUMMARY:Memphis Room
DESCRIPTION:
URL:https://www.venuechisca.com/cal/memphis-room-5/2026-02-06/
LOCATION:Venue Chisca\, 1009 SW Washington St\, IL\, 61602\, United States
END:VEVENT
BEGIN:VEVENT
DTSTART;VALUE=DATE:20260206
DTEND;VALUE=DATE:20260207
DTSTAMP:20260424T062744
CREATED:20250914T001403Z
LAST-MODIFIED:20250914T004441Z
UID:10000091-1770336000-1770422399@www.venuechisca.com
SUMMARY:Ballroom + Quarter
DESCRIPTION:
URL:https://www.venuechisca.com/cal/ballroom/2026-02-06/
LOCATION:Venue Chisca\, 1009 SW Washington St\, IL\, 61602\, United States
END:VEVENT
BEGIN:VEVENT
DTSTART;VALUE=DATE:20260131
DTEND;VALUE=DATE:20260201
DTSTAMP:20260424T062744
CREATED:20250916T192256Z
LAST-MODIFIED:20250916T192257Z
UID:10000231-1769817600-1769903999@www.venuechisca.com
SUMMARY:Olive & Oak
DESCRIPTION:
URL:https://www.venuechisca.com/cal/olive-oak-2/2026-01-31/
LOCATION:Venue Chisca\, 1009 SW Washington St\, IL\, 61602\, United States
END:VEVENT
BEGIN:VEVENT
DTSTART;VALUE=DATE:20260131
DTEND;VALUE=DATE:20260201
DTSTAMP:20260424T062744
CREATED:20250914T004710Z
LAST-MODIFIED:20250914T004710Z
UID:10000102-1769817600-1769903999@www.venuechisca.com
SUMMARY:Ballroom + Quarter
DESCRIPTION:
URL:https://www.venuechisca.com/cal/ballroom-quarter-3/2026-01-31/
LOCATION:Venue Chisca\, 1009 SW Washington St\, IL\, 61602\, United States
END:VEVENT
BEGIN:VEVENT
DTSTART;VALUE=DATE:20260131
DTEND;VALUE=DATE:20260201
DTSTAMP:20260424T062744
CREATED:20250914T004137Z
LAST-MODIFIED:20250914T004137Z
UID:10000080-1769817600-1769903999@www.venuechisca.com
SUMMARY:Memphis Room
DESCRIPTION:
URL:https://www.venuechisca.com/cal/memphis-room-7/2026-01-31/
LOCATION:Venue Chisca\, 1009 SW Washington St\, IL\, 61602\, United States
END:VEVENT
BEGIN:VEVENT
DTSTART;VALUE=DATE:20260130
DTEND;VALUE=DATE:20260131
DTSTAMP:20260424T062744
CREATED:20250916T192449Z
LAST-MODIFIED:20250916T192449Z
UID:10000235-1769731200-1769817599@www.venuechisca.com
SUMMARY:Olive & Oak
DESCRIPTION:
URL:https://www.venuechisca.com/cal/olive-oak-3/2026-01-30/
LOCATION:Venue Chisca\, 1009 SW Washington St\, IL\, 61602\, United States
END:VEVENT
BEGIN:VEVENT
DTSTART;VALUE=DATE:20260130
DTEND;VALUE=DATE:20260131
DTSTAMP:20260424T062744
CREATED:20250914T002158Z
LAST-MODIFIED:20250914T003458Z
UID:10000024-1769731200-1769817599@www.venuechisca.com
SUMMARY:Memphis Room
DESCRIPTION:
URL:https://www.venuechisca.com/cal/memphis-room-5/2026-01-30/
LOCATION:Venue Chisca\, 1009 SW Washington St\, IL\, 61602\, United States
END:VEVENT
BEGIN:VEVENT
DTSTART;VALUE=DATE:20260130
DTEND;VALUE=DATE:20260131
DTSTAMP:20260424T062744
CREATED:20250914T001403Z
LAST-MODIFIED:20250914T004441Z
UID:10000090-1769731200-1769817599@www.venuechisca.com
SUMMARY:Ballroom + Quarter
DESCRIPTION:
URL:https://www.venuechisca.com/cal/ballroom/2026-01-30/
LOCATION:Venue Chisca\, 1009 SW Washington St\, IL\, 61602\, United States
END:VEVENT
BEGIN:VEVENT
DTSTART;VALUE=DATE:20260124
DTEND;VALUE=DATE:20260125
DTSTAMP:20260424T062744
CREATED:20250916T192256Z
LAST-MODIFIED:20250916T192257Z
UID:10000230-1769212800-1769299199@www.venuechisca.com
SUMMARY:Olive & Oak
DESCRIPTION:
URL:https://www.venuechisca.com/cal/olive-oak-2/2026-01-24/
LOCATION:Venue Chisca\, 1009 SW Washington St\, IL\, 61602\, United States
END:VEVENT
BEGIN:VEVENT
DTSTART;VALUE=DATE:20260124
DTEND;VALUE=DATE:20260125
DTSTAMP:20260424T062744
CREATED:20250914T004137Z
LAST-MODIFIED:20250914T004137Z
UID:10000079-1769212800-1769299199@www.venuechisca.com
SUMMARY:Memphis Room
DESCRIPTION:
URL:https://www.venuechisca.com/cal/memphis-room-7/2026-01-24/
LOCATION:Venue Chisca\, 1009 SW Washington St\, IL\, 61602\, United States
END:VEVENT
BEGIN:VEVENT
DTSTART;VALUE=DATE:20260123
DTEND;VALUE=DATE:20260124
DTSTAMP:20260424T062744
CREATED:20250916T192449Z
LAST-MODIFIED:20250916T192449Z
UID:10000234-1769126400-1769212799@www.venuechisca.com
SUMMARY:Olive & Oak
DESCRIPTION:
URL:https://www.venuechisca.com/cal/olive-oak-3/2026-01-23/
LOCATION:Venue Chisca\, 1009 SW Washington St\, IL\, 61602\, United States
END:VEVENT
BEGIN:VEVENT
DTSTART;VALUE=DATE:20260123
DTEND;VALUE=DATE:20260124
DTSTAMP:20260424T062744
CREATED:20250914T002158Z
LAST-MODIFIED:20250914T003458Z
UID:10000023-1769126400-1769212799@www.venuechisca.com
SUMMARY:Memphis Room
DESCRIPTION:
URL:https://www.venuechisca.com/cal/memphis-room-5/2026-01-23/
LOCATION:Venue Chisca\, 1009 SW Washington St\, IL\, 61602\, United States
END:VEVENT
BEGIN:VEVENT
DTSTART;VALUE=DATE:20260123
DTEND;VALUE=DATE:20260124
DTSTAMP:20260424T062744
CREATED:20250914T001403Z
LAST-MODIFIED:20250914T004441Z
UID:10000089-1769126400-1769212799@www.venuechisca.com
SUMMARY:Ballroom + Quarter
DESCRIPTION:
URL:https://www.venuechisca.com/cal/ballroom/2026-01-23/
LOCATION:Venue Chisca\, 1009 SW Washington St\, IL\, 61602\, United States
END:VEVENT
BEGIN:VEVENT
DTSTART;VALUE=DATE:20260117
DTEND;VALUE=DATE:20260118
DTSTAMP:20260424T062744
CREATED:20250916T192256Z
LAST-MODIFIED:20250916T192257Z
UID:10000229-1768608000-1768694399@www.venuechisca.com
SUMMARY:Olive & Oak
DESCRIPTION:
URL:https://www.venuechisca.com/cal/olive-oak-2/2026-01-17/
LOCATION:Venue Chisca\, 1009 SW Washington St\, IL\, 61602\, United States
END:VEVENT
BEGIN:VEVENT
DTSTART;VALUE=DATE:20260117
DTEND;VALUE=DATE:20260118
DTSTAMP:20260424T062744
CREATED:20250914T004137Z
LAST-MODIFIED:20250914T004137Z
UID:10000078-1768608000-1768694399@www.venuechisca.com
SUMMARY:Memphis Room
DESCRIPTION:
URL:https://www.venuechisca.com/cal/memphis-room-7/2026-01-17/
LOCATION:Venue Chisca\, 1009 SW Washington St\, IL\, 61602\, United States
END:VEVENT
BEGIN:VEVENT
DTSTART;VALUE=DATE:20260116
DTEND;VALUE=DATE:20260117
DTSTAMP:20260424T062745
CREATED:20250916T192449Z
LAST-MODIFIED:20250916T192449Z
UID:10000233-1768521600-1768607999@www.venuechisca.com
SUMMARY:Olive & Oak
DESCRIPTION:
URL:https://www.venuechisca.com/cal/olive-oak-3/2026-01-16/
LOCATION:Venue Chisca\, 1009 SW Washington St\, IL\, 61602\, United States
END:VEVENT
BEGIN:VEVENT
DTSTART;VALUE=DATE:20260116
DTEND;VALUE=DATE:20260117
DTSTAMP:20260424T062745
CREATED:20250914T003600Z
LAST-MODIFIED:20250914T003910Z
UID:10000077-1768521600-1768607999@www.venuechisca.com
SUMMARY:Memphis Room
DESCRIPTION:
URL:https://www.venuechisca.com/cal/memphis-room-6/
LOCATION:Venue Chisca\, 1009 SW Washington St\, IL\, 61602\, United States
END:VEVENT
BEGIN:VEVENT
DTSTART;VALUE=DATE:20260116
DTEND;VALUE=DATE:20260117
DTSTAMP:20260424T062745
CREATED:20250914T001403Z
LAST-MODIFIED:20250914T004441Z
UID:10000088-1768521600-1768607999@www.venuechisca.com
SUMMARY:Ballroom + Quarter
DESCRIPTION:
URL:https://www.venuechisca.com/cal/ballroom/2026-01-16/
LOCATION:Venue Chisca\, 1009 SW Washington St\, IL\, 61602\, United States
END:VEVENT
BEGIN:VEVENT
DTSTART;VALUE=DATE:20260110
DTEND;VALUE=DATE:20260111
DTSTAMP:20260424T062745
CREATED:20250916T192256Z
LAST-MODIFIED:20250916T192257Z
UID:10000228-1768003200-1768089599@www.venuechisca.com
SUMMARY:Olive & Oak
DESCRIPTION:
URL:https://www.venuechisca.com/cal/olive-oak-2/2026-01-10/
LOCATION:Venue Chisca\, 1009 SW Washington St\, IL\, 61602\, United States
END:VEVENT
BEGIN:VEVENT
DTSTART;VALUE=DATE:20260110
DTEND;VALUE=DATE:20260111
DTSTAMP:20260424T062745
CREATED:20250914T002012Z
LAST-MODIFIED:20250914T002032Z
UID:10000021-1768003200-1768089599@www.venuechisca.com
SUMMARY:Ballroom + Quarter
DESCRIPTION:
URL:https://www.venuechisca.com/cal/ballroom-quarter-2/
LOCATION:Venue Chisca\, 1009 SW Washington St\, IL\, 61602\, United States
END:VEVENT
BEGIN:VEVENT
DTSTART;VALUE=DATE:20260109
DTEND;VALUE=DATE:20260110
DTSTAMP:20260424T062745
CREATED:20250914T001732Z
LAST-MODIFIED:20250914T003842Z
UID:10000019-1767916800-1768003199@www.venuechisca.com
SUMMARY:Memphis Room
DESCRIPTION:
URL:https://www.venuechisca.com/cal/memphis-room-4/
LOCATION:Venue Chisca\, 1009 SW Washington St\, IL\, 61602\, United States
END:VEVENT
BEGIN:VEVENT
DTSTART;VALUE=DATE:20260109
DTEND;VALUE=DATE:20260110
DTSTAMP:20260424T062745
CREATED:20250914T001403Z
LAST-MODIFIED:20250914T004441Z
UID:10000087-1767916800-1768003199@www.venuechisca.com
SUMMARY:Ballroom + Quarter
DESCRIPTION:
URL:https://www.venuechisca.com/cal/ballroom/2026-01-09/
LOCATION:Venue Chisca\, 1009 SW Washington St\, IL\, 61602\, United States
END:VEVENT
BEGIN:VEVENT
DTSTART;VALUE=DATE:20260103
DTEND;VALUE=DATE:20260104
DTSTAMP:20260424T062745
CREATED:20250916T192256Z
LAST-MODIFIED:20250916T192257Z
UID:10000227-1767398400-1767484799@www.venuechisca.com
SUMMARY:Olive & Oak
DESCRIPTION:
URL:https://www.venuechisca.com/cal/olive-oak-2/2026-01-03/
LOCATION:Venue Chisca\, 1009 SW Washington St\, IL\, 61602\, United States
END:VEVENT
BEGIN:VEVENT
DTSTART;VALUE=DATE:20260103
DTEND;VALUE=DATE:20260104
DTSTAMP:20260424T062745
CREATED:20250905T191607Z
LAST-MODIFIED:20250905T195423Z
UID:10000001-1767398400-1767484799@www.venuechisca.com
SUMMARY:Weddings UnVeiled 2026
DESCRIPTION:
URL:https://www.venuechisca.com/cal/weddings-unveiled-2026/
LOCATION:The Peoria Marriott Pere Marquette\, 501 Main St\, Peoria\, IL\, 61602\, United States
CATEGORIES:Bridal Show
END:VEVENT
BEGIN:VEVENT
DTSTART;VALUE=DATE:20260102
DTEND;VALUE=DATE:20260103
DTSTAMP:20260424T062745
CREATED:20250916T192020Z
LAST-MODIFIED:20251123T035925Z
UID:10000226-1767312000-1767398399@www.venuechisca.com
SUMMARY:Olive & Oak
DESCRIPTION:
URL:https://www.venuechisca.com/cal/olive-oak/
LOCATION:Olive & Oak Events
END:VEVENT
BEGIN:VEVENT
DTSTART;VALUE=DATE:20260102
DTEND;VALUE=DATE:20260103
DTSTAMP:20260424T062745
CREATED:20250914T001403Z
LAST-MODIFIED:20250914T004441Z
UID:10000018-1767312000-1767398399@www.venuechisca.com
SUMMARY:Ballroom + Quarter
DESCRIPTION:
URL:https://www.venuechisca.com/cal/ballroom/2026-01-02/
LOCATION:Venue Chisca\, 1009 SW Washington St\, IL\, 61602\, United States
END:VEVENT
BEGIN:VEVENT
DTSTART;VALUE=DATE:20260102
DTEND;VALUE=DATE:20260103
DTSTAMP:20260424T062745
CREATED:20250914T000949Z
LAST-MODIFIED:20250914T003814Z
UID:10000017-1767312000-1767398399@www.venuechisca.com
SUMMARY:Memphis Room
DESCRIPTION:
URL:https://www.venuechisca.com/cal/memphis-room-3/
LOCATION:Venue Chisca\, 1009 SW Washington St\, IL\, 61602\, United States
END:VEVENT
END:VCALENDAR