BEGIN:VCALENDAR
VERSION:2.0
PRODID:-//Venue Chisca - ECPv6.15.15//NONSGML v1.0//EN
CALSCALE:GREGORIAN
METHOD:PUBLISH
X-ORIGINAL-URL:https://www.venuechisca.com
X-WR-CALDESC:Events for Venue Chisca
REFRESH-INTERVAL;VALUE=DURATION:PT1H
X-Robots-Tag:noindex
X-PUBLISHED-TTL:PT1H
BEGIN:VTIMEZONE
TZID:America/Chicago
BEGIN:DAYLIGHT
TZOFFSETFROM:-0600
TZOFFSETTO:-0500
TZNAME:CDT
DTSTART:20250309T080000
END:DAYLIGHT
BEGIN:STANDARD
TZOFFSETFROM:-0500
TZOFFSETTO:-0600
TZNAME:CST
DTSTART:20251102T070000
END:STANDARD
BEGIN:DAYLIGHT
TZOFFSETFROM:-0600
TZOFFSETTO:-0500
TZNAME:CDT
DTSTART:20260308T080000
END:DAYLIGHT
BEGIN:STANDARD
TZOFFSETFROM:-0500
TZOFFSETTO:-0600
TZNAME:CST
DTSTART:20261101T070000
END:STANDARD
BEGIN:DAYLIGHT
TZOFFSETFROM:-0600
TZOFFSETTO:-0500
TZNAME:CDT
DTSTART:20270314T080000
END:DAYLIGHT
BEGIN:STANDARD
TZOFFSETFROM:-0500
TZOFFSETTO:-0600
TZNAME:CST
DTSTART:20271107T070000
END:STANDARD
END:VTIMEZONE
BEGIN:VEVENT
DTSTART;VALUE=DATE:20260710
DTEND;VALUE=DATE:20260711
DTSTAMP:20260422T080716
CREATED:20250916T201133Z
LAST-MODIFIED:20250916T201133Z
UID:10000319-1783641600-1783727999@www.venuechisca.com
SUMMARY:Olive & Oak
DESCRIPTION:
URL:https://www.venuechisca.com/cal/olive-oak-14/2026-07-10/
LOCATION:Olive & Oak Events
END:VEVENT
BEGIN:VEVENT
DTSTART;VALUE=DATE:20260711
DTEND;VALUE=DATE:20260712
DTSTAMP:20260422T080716
CREATED:20251016T163317Z
LAST-MODIFIED:20251016T163317Z
UID:10000333-1783728000-1783814399@www.venuechisca.com
SUMMARY:Memphis Room
DESCRIPTION:
URL:https://www.venuechisca.com/cal/memphis-room-13/2026-07-11/
LOCATION:Venue Chisca\, 1009 SW Washington St\, IL\, 61602\, United States
CATEGORIES:Memphis Room
END:VEVENT
BEGIN:VEVENT
DTSTART;VALUE=DATE:20260717
DTEND;VALUE=DATE:20260718
DTSTAMP:20260422T080716
CREATED:20250914T010150Z
LAST-MODIFIED:20250914T010150Z
UID:10000126-1784246400-1784332799@www.venuechisca.com
SUMMARY:Memphis Room
DESCRIPTION:
URL:https://www.venuechisca.com/cal/memphis-room-11/2026-07-17/
LOCATION:Venue Chisca\, 1009 SW Washington St\, IL\, 61602\, United States
END:VEVENT
BEGIN:VEVENT
DTSTART;VALUE=DATE:20260717
DTEND;VALUE=DATE:20260718
DTSTAMP:20260422T080716
CREATED:20250914T010752Z
LAST-MODIFIED:20250914T010752Z
UID:10000148-1784246400-1784332799@www.venuechisca.com
SUMMARY:Ballroom + Quarter
DESCRIPTION:
URL:https://www.venuechisca.com/cal/ballroom-quarter-5/2026-07-17/
LOCATION:Venue Chisca\, 1009 SW Washington St\, IL\, 61602\, United States
END:VEVENT
BEGIN:VEVENT
DTSTART;VALUE=DATE:20260717
DTEND;VALUE=DATE:20260718
DTSTAMP:20260422T080716
CREATED:20250916T195131Z
LAST-MODIFIED:20250916T195131Z
UID:10000265-1784246400-1784332799@www.venuechisca.com
SUMMARY:Olive & Oak
DESCRIPTION:
URL:https://www.venuechisca.com/cal/olive-oak-10/2026-07-17/
LOCATION:Venue Chisca\, 1009 SW Washington St\, IL\, 61602\, United States
END:VEVENT
BEGIN:VEVENT
DTSTART;VALUE=DATE:20260724
DTEND;VALUE=DATE:20260725
DTSTAMP:20260422T080716
CREATED:20250914T010150Z
LAST-MODIFIED:20250914T010150Z
UID:10000127-1784851200-1784937599@www.venuechisca.com
SUMMARY:Memphis Room
DESCRIPTION:
URL:https://www.venuechisca.com/cal/memphis-room-11/2026-07-24/
LOCATION:Venue Chisca\, 1009 SW Washington St\, IL\, 61602\, United States
END:VEVENT
BEGIN:VEVENT
DTSTART;VALUE=DATE:20260724
DTEND;VALUE=DATE:20260725
DTSTAMP:20260422T080716
CREATED:20250914T010752Z
LAST-MODIFIED:20250914T010752Z
UID:10000149-1784851200-1784937599@www.venuechisca.com
SUMMARY:Ballroom + Quarter
DESCRIPTION:
URL:https://www.venuechisca.com/cal/ballroom-quarter-5/2026-07-24/
LOCATION:Venue Chisca\, 1009 SW Washington St\, IL\, 61602\, United States
END:VEVENT
BEGIN:VEVENT
DTSTART;VALUE=DATE:20260724
DTEND;VALUE=DATE:20260725
DTSTAMP:20260422T080716
CREATED:20250916T195131Z
LAST-MODIFIED:20250916T195131Z
UID:10000266-1784851200-1784937599@www.venuechisca.com
SUMMARY:Olive & Oak
DESCRIPTION:
URL:https://www.venuechisca.com/cal/olive-oak-10/2026-07-24/
LOCATION:Venue Chisca\, 1009 SW Washington St\, IL\, 61602\, United States
END:VEVENT
BEGIN:VEVENT
DTSTART;VALUE=DATE:20260725
DTEND;VALUE=DATE:20260726
DTSTAMP:20260422T080716
CREATED:20251016T163716Z
LAST-MODIFIED:20251016T163716Z
UID:10000334-1784937600-1785023999@www.venuechisca.com
SUMMARY:Memphis Room
DESCRIPTION:
URL:https://www.venuechisca.com/cal/memphis-room-15/2026-07-25/
LOCATION:Venue Chisca\, 1009 SW Washington St\, IL\, 61602\, United States
CATEGORIES:Memphis Room
END:VEVENT
BEGIN:VEVENT
DTSTART;VALUE=DATE:20260731
DTEND;VALUE=DATE:20260801
DTSTAMP:20260422T080716
CREATED:20250916T195131Z
LAST-MODIFIED:20250916T195131Z
UID:10000267-1785456000-1785542399@www.venuechisca.com
SUMMARY:Olive & Oak
DESCRIPTION:
URL:https://www.venuechisca.com/cal/olive-oak-10/2026-07-31/
LOCATION:Venue Chisca\, 1009 SW Washington St\, IL\, 61602\, United States
END:VEVENT
BEGIN:VEVENT
DTSTART;VALUE=DATE:20260807
DTEND;VALUE=DATE:20260808
DTSTAMP:20260422T080716
CREATED:20250914T010150Z
LAST-MODIFIED:20250914T010150Z
UID:10000129-1786060800-1786147199@www.venuechisca.com
SUMMARY:Memphis Room
DESCRIPTION:
URL:https://www.venuechisca.com/cal/memphis-room-11/2026-08-07/
LOCATION:Venue Chisca\, 1009 SW Washington St\, IL\, 61602\, United States
END:VEVENT
BEGIN:VEVENT
DTSTART;VALUE=DATE:20260807
DTEND;VALUE=DATE:20260808
DTSTAMP:20260422T080716
CREATED:20250916T195131Z
LAST-MODIFIED:20250916T195131Z
UID:10000268-1786060800-1786147199@www.venuechisca.com
SUMMARY:Olive & Oak
DESCRIPTION:
URL:https://www.venuechisca.com/cal/olive-oak-10/2026-08-07/
LOCATION:Venue Chisca\, 1009 SW Washington St\, IL\, 61602\, United States
END:VEVENT
BEGIN:VEVENT
DTSTART;VALUE=DATE:20260808
DTEND;VALUE=DATE:20260809
DTSTAMP:20260422T080716
CREATED:20251016T163716Z
LAST-MODIFIED:20251016T163716Z
UID:10000336-1786147200-1786233599@www.venuechisca.com
SUMMARY:Memphis Room
DESCRIPTION:
URL:https://www.venuechisca.com/cal/memphis-room-15/2026-08-08/
LOCATION:Venue Chisca\, 1009 SW Washington St\, IL\, 61602\, United States
CATEGORIES:Memphis Room
END:VEVENT
BEGIN:VEVENT
DTSTART;VALUE=DATE:20260821
DTEND;VALUE=DATE:20260822
DTSTAMP:20260422T080716
CREATED:20250914T010150Z
LAST-MODIFIED:20250914T010150Z
UID:10000131-1787270400-1787356799@www.venuechisca.com
SUMMARY:Memphis Room
DESCRIPTION:
URL:https://www.venuechisca.com/cal/memphis-room-11/2026-08-21/
LOCATION:Venue Chisca\, 1009 SW Washington St\, IL\, 61602\, United States
END:VEVENT
BEGIN:VEVENT
DTSTART;VALUE=DATE:20260821
DTEND;VALUE=DATE:20260822
DTSTAMP:20260422T080716
CREATED:20250914T010752Z
LAST-MODIFIED:20250914T010752Z
UID:10000153-1787270400-1787356799@www.venuechisca.com
SUMMARY:Ballroom + Quarter
DESCRIPTION:
URL:https://www.venuechisca.com/cal/ballroom-quarter-5/2026-08-21/
LOCATION:Venue Chisca\, 1009 SW Washington St\, IL\, 61602\, United States
END:VEVENT
BEGIN:VEVENT
DTSTART;VALUE=DATE:20260821
DTEND;VALUE=DATE:20260822
DTSTAMP:20260422T080716
CREATED:20250916T195131Z
LAST-MODIFIED:20250916T195131Z
UID:10000270-1787270400-1787356799@www.venuechisca.com
SUMMARY:Olive & Oak
DESCRIPTION:
URL:https://www.venuechisca.com/cal/olive-oak-10/2026-08-21/
LOCATION:Venue Chisca\, 1009 SW Washington St\, IL\, 61602\, United States
END:VEVENT
BEGIN:VEVENT
DTSTART;VALUE=DATE:20260828
DTEND;VALUE=DATE:20260829
DTSTAMP:20260422T080716
CREATED:20250916T195131Z
LAST-MODIFIED:20250916T195131Z
UID:10000271-1787875200-1787961599@www.venuechisca.com
SUMMARY:Olive & Oak
DESCRIPTION:
URL:https://www.venuechisca.com/cal/olive-oak-10/2026-08-28/
LOCATION:Venue Chisca\, 1009 SW Washington St\, IL\, 61602\, United States
END:VEVENT
BEGIN:VEVENT
DTSTART;VALUE=DATE:20260829
DTEND;VALUE=DATE:20260830
DTSTAMP:20260422T080716
CREATED:20251016T163716Z
LAST-MODIFIED:20251016T163716Z
UID:10000339-1787961600-1788047999@www.venuechisca.com
SUMMARY:Memphis Room
DESCRIPTION:
URL:https://www.venuechisca.com/cal/memphis-room-15/2026-08-29/
LOCATION:Venue Chisca\, 1009 SW Washington St\, IL\, 61602\, United States
CATEGORIES:Memphis Room
END:VEVENT
BEGIN:VEVENT
DTSTART;VALUE=DATE:20260829
DTEND;VALUE=DATE:20260830
DTSTAMP:20260422T080716
CREATED:20260417T143650Z
LAST-MODIFIED:20260417T143650Z
UID:10000368-1787961600-1788047999@www.venuechisca.com
SUMMARY:Olive & Oak
DESCRIPTION:
URL:https://www.venuechisca.com/cal/olive-oak-24/
LOCATION:Olive & Oak Events
END:VEVENT
BEGIN:VEVENT
DTSTART;VALUE=DATE:20260904
DTEND;VALUE=DATE:20260905
DTSTAMP:20260422T080716
CREATED:20250916T195131Z
LAST-MODIFIED:20250916T195131Z
UID:10000272-1788480000-1788566399@www.venuechisca.com
SUMMARY:Olive & Oak
DESCRIPTION:
URL:https://www.venuechisca.com/cal/olive-oak-10/2026-09-04/
LOCATION:Venue Chisca\, 1009 SW Washington St\, IL\, 61602\, United States
END:VEVENT
BEGIN:VEVENT
DTSTART;VALUE=DATE:20260904
DTEND;VALUE=DATE:20260905
DTSTAMP:20260422T080716
CREATED:20260413T154839Z
LAST-MODIFIED:20260413T154839Z
UID:10000365-1788480000-1788566399@www.venuechisca.com
SUMMARY:Memphis Room
DESCRIPTION:
URL:https://www.venuechisca.com/cal/memphis-room-19/
LOCATION:Venue Chisca\, 1009 SW Washington St\, IL\, 61602\, United States
END:VEVENT
BEGIN:VEVENT
DTSTART;VALUE=DATE:20260904
DTEND;VALUE=DATE:20260905
DTSTAMP:20260422T080716
CREATED:20260413T155004Z
LAST-MODIFIED:20260413T155004Z
UID:10000366-1788480000-1788566399@www.venuechisca.com
SUMMARY:Ballroom + Quarter
DESCRIPTION:
URL:https://www.venuechisca.com/cal/ballroom-quarter-12/
LOCATION:Venue Chisca\, 1009 SW Washington St\, IL\, 61602\, United States
END:VEVENT
BEGIN:VEVENT
DTSTART;VALUE=DATE:20260911
DTEND;VALUE=DATE:20260912
DTSTAMP:20260422T080716
CREATED:20250916T195131Z
LAST-MODIFIED:20250916T195131Z
UID:10000273-1789084800-1789171199@www.venuechisca.com
SUMMARY:Olive & Oak
DESCRIPTION:
URL:https://www.venuechisca.com/cal/olive-oak-10/2026-09-11/
LOCATION:Venue Chisca\, 1009 SW Washington St\, IL\, 61602\, United States
END:VEVENT
BEGIN:VEVENT
DTSTART;VALUE=DATE:20260918
DTEND;VALUE=DATE:20260919
DTSTAMP:20260422T080716
CREATED:20250914T013724Z
LAST-MODIFIED:20250914T013724Z
UID:10000189-1789689600-1789775999@www.venuechisca.com
SUMMARY:Memphis Room
DESCRIPTION:
URL:https://www.venuechisca.com/cal/memphis-room-14/2026-09-18/
LOCATION:Venue Chisca\, 1009 SW Washington St\, IL\, 61602\, United States
END:VEVENT
BEGIN:VEVENT
DTSTART;VALUE=DATE:20260918
DTEND;VALUE=DATE:20260919
DTSTAMP:20260422T080716
CREATED:20250916T195131Z
LAST-MODIFIED:20250916T195131Z
UID:10000274-1789689600-1789775999@www.venuechisca.com
SUMMARY:Olive & Oak
DESCRIPTION:
URL:https://www.venuechisca.com/cal/olive-oak-10/2026-09-18/
LOCATION:Venue Chisca\, 1009 SW Washington St\, IL\, 61602\, United States
END:VEVENT
BEGIN:VEVENT
DTSTART;VALUE=DATE:20260925
DTEND;VALUE=DATE:20260926
DTSTAMP:20260422T080716
CREATED:20250914T013724Z
LAST-MODIFIED:20250914T013724Z
UID:10000190-1790294400-1790380799@www.venuechisca.com
SUMMARY:Memphis Room
DESCRIPTION:
URL:https://www.venuechisca.com/cal/memphis-room-14/2026-09-25/
LOCATION:Venue Chisca\, 1009 SW Washington St\, IL\, 61602\, United States
END:VEVENT
BEGIN:VEVENT
DTSTART;VALUE=DATE:20260925
DTEND;VALUE=DATE:20260926
DTSTAMP:20260422T080716
CREATED:20250916T195131Z
LAST-MODIFIED:20250916T195131Z
UID:10000275-1790294400-1790380799@www.venuechisca.com
SUMMARY:Olive & Oak
DESCRIPTION:
URL:https://www.venuechisca.com/cal/olive-oak-10/2026-09-25/
LOCATION:Venue Chisca\, 1009 SW Washington St\, IL\, 61602\, United States
END:VEVENT
BEGIN:VEVENT
DTSTART;VALUE=DATE:20260926
DTEND;VALUE=DATE:20260927
DTSTAMP:20260422T080716
CREATED:20251016T164635Z
LAST-MODIFIED:20251016T164635Z
UID:10000342-1790380800-1790467199@www.venuechisca.com
SUMMARY:Memphis Room
DESCRIPTION:
URL:https://www.venuechisca.com/cal/memphis-room-16/2026-09-26/
LOCATION:Venue Chisca\, 1009 SW Washington St\, IL\, 61602\, United States
CATEGORIES:Memphis Room
END:VEVENT
BEGIN:VEVENT
DTSTART;VALUE=DATE:20260926
DTEND;VALUE=DATE:20260927
DTSTAMP:20260422T080716
CREATED:20260413T155132Z
LAST-MODIFIED:20260413T155132Z
UID:10000367-1790380800-1790467199@www.venuechisca.com
SUMMARY:Olive & Oak
DESCRIPTION:
URL:https://www.venuechisca.com/cal/olive-oak-23/
LOCATION:Venue Chisca\, 1009 SW Washington St\, IL\, 61602\, United States
END:VEVENT
BEGIN:VEVENT
DTSTART;VALUE=DATE:20261002
DTEND;VALUE=DATE:20261003
DTSTAMP:20260422T080716
CREATED:20250914T013724Z
LAST-MODIFIED:20250914T013724Z
UID:10000191-1790899200-1790985599@www.venuechisca.com
SUMMARY:Memphis Room
DESCRIPTION:
URL:https://www.venuechisca.com/cal/memphis-room-14/2026-10-02/
LOCATION:Venue Chisca\, 1009 SW Washington St\, IL\, 61602\, United States
END:VEVENT
END:VCALENDAR