BEGIN:VCALENDAR
VERSION:2.0
PRODID:-//Venue Chisca - ECPv6.15.15//NONSGML v1.0//EN
CALSCALE:GREGORIAN
METHOD:PUBLISH
X-WR-CALNAME:Venue Chisca
X-ORIGINAL-URL:https://www.venuechisca.com
X-WR-CALDESC:Events for Venue Chisca
REFRESH-INTERVAL;VALUE=DURATION:PT1H
X-Robots-Tag:noindex
X-PUBLISHED-TTL:PT1H
BEGIN:VTIMEZONE
TZID:America/Chicago
BEGIN:DAYLIGHT
TZOFFSETFROM:-0600
TZOFFSETTO:-0500
TZNAME:CDT
DTSTART:20250309T080000
END:DAYLIGHT
BEGIN:STANDARD
TZOFFSETFROM:-0500
TZOFFSETTO:-0600
TZNAME:CST
DTSTART:20251102T070000
END:STANDARD
BEGIN:DAYLIGHT
TZOFFSETFROM:-0600
TZOFFSETTO:-0500
TZNAME:CDT
DTSTART:20260308T080000
END:DAYLIGHT
BEGIN:STANDARD
TZOFFSETFROM:-0500
TZOFFSETTO:-0600
TZNAME:CST
DTSTART:20261101T070000
END:STANDARD
BEGIN:DAYLIGHT
TZOFFSETFROM:-0600
TZOFFSETTO:-0500
TZNAME:CDT
DTSTART:20270314T080000
END:DAYLIGHT
BEGIN:STANDARD
TZOFFSETFROM:-0500
TZOFFSETTO:-0600
TZNAME:CST
DTSTART:20271107T070000
END:STANDARD
END:VTIMEZONE
BEGIN:VEVENT
DTSTART;VALUE=DATE:20260403
DTEND;VALUE=DATE:20260404
DTSTAMP:20260420T125604
CREATED:20250914T001403Z
LAST-MODIFIED:20250914T004441Z
UID:10000099-1775174400-1775260799@www.venuechisca.com
SUMMARY:Ballroom + Quarter
DESCRIPTION:
URL:https://www.venuechisca.com/cal/ballroom/2026-04-03/
LOCATION:Venue Chisca\, 1009 SW Washington St\, IL\, 61602\, United States
END:VEVENT
BEGIN:VEVENT
DTSTART;VALUE=DATE:20260403
DTEND;VALUE=DATE:20260404
DTSTAMP:20260420T125604
CREATED:20250914T002158Z
LAST-MODIFIED:20250914T003458Z
UID:10000033-1775174400-1775260799@www.venuechisca.com
SUMMARY:Memphis Room
DESCRIPTION:
URL:https://www.venuechisca.com/cal/memphis-room-5/2026-04-03/
LOCATION:Venue Chisca\, 1009 SW Washington St\, IL\, 61602\, United States
END:VEVENT
BEGIN:VEVENT
DTSTART;VALUE=DATE:20260404
DTEND;VALUE=DATE:20260405
DTSTAMP:20260420T125604
CREATED:20250916T193913Z
LAST-MODIFIED:20250916T193913Z
UID:10000248-1775260800-1775347199@www.venuechisca.com
SUMMARY:Olive & Oak
DESCRIPTION:
URL:https://www.venuechisca.com/cal/olive-oak-6/2026-04-04/
LOCATION:Venue Chisca\, 1009 SW Washington St\, IL\, 61602\, United States
END:VEVENT
BEGIN:VEVENT
DTSTART;VALUE=DATE:20260404
DTEND;VALUE=DATE:20260405
DTSTAMP:20260420T125604
CREATED:20251210T175634Z
LAST-MODIFIED:20251210T175634Z
UID:10000360-1775260800-1775347199@www.venuechisca.com
SUMMARY:Ballroom + Quarter
DESCRIPTION:
URL:https://www.venuechisca.com/cal/ballroom-quarter-13/
LOCATION:Venue Chisca\, 1009 SW Washington St\, IL\, 61602\, United States
END:VEVENT
BEGIN:VEVENT
DTSTART;VALUE=DATE:20260410
DTEND;VALUE=DATE:20260411
DTSTAMP:20260420T125604
CREATED:20250914T001403Z
LAST-MODIFIED:20250914T004441Z
UID:10000100-1775779200-1775865599@www.venuechisca.com
SUMMARY:Ballroom + Quarter
DESCRIPTION:
URL:https://www.venuechisca.com/cal/ballroom/2026-04-10/
LOCATION:Venue Chisca\, 1009 SW Washington St\, IL\, 61602\, United States
END:VEVENT
BEGIN:VEVENT
DTSTART;VALUE=DATE:20260410
DTEND;VALUE=DATE:20260411
DTSTAMP:20260420T125604
CREATED:20250914T002158Z
LAST-MODIFIED:20250914T003458Z
UID:10000034-1775779200-1775865599@www.venuechisca.com
SUMMARY:Memphis Room
DESCRIPTION:
URL:https://www.venuechisca.com/cal/memphis-room-5/2026-04-10/
LOCATION:Venue Chisca\, 1009 SW Washington St\, IL\, 61602\, United States
END:VEVENT
BEGIN:VEVENT
DTSTART;VALUE=DATE:20260410
DTEND;VALUE=DATE:20260411
DTSTAMP:20260420T125604
CREATED:20250916T194724Z
LAST-MODIFIED:20250916T194724Z
UID:10000251-1775779200-1775865599@www.venuechisca.com
SUMMARY:Olive & Oak
DESCRIPTION:
URL:https://www.venuechisca.com/cal/olive-oak-7/2026-04-10/
LOCATION:Venue Chisca\, 1009 SW Washington St\, IL\, 61602\, United States
END:VEVENT
BEGIN:VEVENT
DTSTART;VALUE=DATE:20260411
DTEND;VALUE=DATE:20260412
DTSTAMP:20260420T125604
CREATED:20250916T193913Z
LAST-MODIFIED:20250916T193913Z
UID:10000249-1775865600-1775951999@www.venuechisca.com
SUMMARY:Olive & Oak
DESCRIPTION:
URL:https://www.venuechisca.com/cal/olive-oak-6/2026-04-11/
LOCATION:Venue Chisca\, 1009 SW Washington St\, IL\, 61602\, United States
END:VEVENT
BEGIN:VEVENT
DTSTART;VALUE=DATE:20260417
DTEND;VALUE=DATE:20260418
DTSTAMP:20260420T125604
CREATED:20250914T005359Z
LAST-MODIFIED:20250914T005359Z
UID:10000112-1776384000-1776470399@www.venuechisca.com
SUMMARY:Memphis Room
DESCRIPTION:
URL:https://www.venuechisca.com/cal/memphis-room-9/
LOCATION:Venue Chisca\, 1009 SW Washington St\, IL\, 61602\, United States
END:VEVENT
BEGIN:VEVENT
DTSTART;VALUE=DATE:20260417
DTEND;VALUE=DATE:20260418
DTSTAMP:20260420T125604
CREATED:20250916T194724Z
LAST-MODIFIED:20250916T194724Z
UID:10000252-1776384000-1776470399@www.venuechisca.com
SUMMARY:Olive & Oak
DESCRIPTION:
URL:https://www.venuechisca.com/cal/olive-oak-7/2026-04-17/
LOCATION:Venue Chisca\, 1009 SW Washington St\, IL\, 61602\, United States
END:VEVENT
BEGIN:VEVENT
DTSTART;VALUE=DATE:20260418
DTEND;VALUE=DATE:20260419
DTSTAMP:20260420T125604
CREATED:20250914T005447Z
LAST-MODIFIED:20250914T005447Z
UID:10000113-1776470400-1776556799@www.venuechisca.com
SUMMARY:Memphis Room
DESCRIPTION:
URL:https://www.venuechisca.com/cal/memphis-room-10/
LOCATION:Venue Chisca\, 1009 SW Washington St\, IL\, 61602\, United States
END:VEVENT
BEGIN:VEVENT
DTSTART;VALUE=DATE:20260418
DTEND;VALUE=DATE:20260419
DTSTAMP:20260420T125604
CREATED:20250916T193913Z
LAST-MODIFIED:20250916T193913Z
UID:10000250-1776470400-1776556799@www.venuechisca.com
SUMMARY:Olive & Oak
DESCRIPTION:
URL:https://www.venuechisca.com/cal/olive-oak-6/2026-04-18/
LOCATION:Venue Chisca\, 1009 SW Washington St\, IL\, 61602\, United States
END:VEVENT
BEGIN:VEVENT
DTSTART;VALUE=DATE:20260424
DTEND;VALUE=DATE:20260425
DTSTAMP:20260420T125604
CREATED:20250914T005610Z
LAST-MODIFIED:20250914T005610Z
UID:10000114-1776988800-1777075199@www.venuechisca.com
SUMMARY:Ballroom + Quarter
DESCRIPTION:
URL:https://www.venuechisca.com/cal/ballroom-quarter-4/
LOCATION:Venue Chisca\, 1009 SW Washington St\, IL\, 61602\, United States
END:VEVENT
BEGIN:VEVENT
DTSTART;VALUE=DATE:20260424
DTEND;VALUE=DATE:20260425
DTSTAMP:20260420T125604
CREATED:20250916T194724Z
LAST-MODIFIED:20250916T194724Z
UID:10000253-1776988800-1777075199@www.venuechisca.com
SUMMARY:Olive & Oak
DESCRIPTION:
URL:https://www.venuechisca.com/cal/olive-oak-7/2026-04-24/
LOCATION:Venue Chisca\, 1009 SW Washington St\, IL\, 61602\, United States
END:VEVENT
BEGIN:VEVENT
DTSTART;VALUE=DATE:20260501
DTEND;VALUE=DATE:20260502
DTSTAMP:20260420T125604
CREATED:20250914T010150Z
LAST-MODIFIED:20250914T010150Z
UID:10000115-1777593600-1777679999@www.venuechisca.com
SUMMARY:Memphis Room
DESCRIPTION:
URL:https://www.venuechisca.com/cal/memphis-room-11/2026-05-01/
LOCATION:Venue Chisca\, 1009 SW Washington St\, IL\, 61602\, United States
END:VEVENT
BEGIN:VEVENT
DTSTART;VALUE=DATE:20260501
DTEND;VALUE=DATE:20260502
DTSTAMP:20260420T125604
CREATED:20250916T194724Z
LAST-MODIFIED:20250916T194724Z
UID:10000254-1777593600-1777679999@www.venuechisca.com
SUMMARY:Olive & Oak
DESCRIPTION:
URL:https://www.venuechisca.com/cal/olive-oak-7/2026-05-01/
LOCATION:Venue Chisca\, 1009 SW Washington St\, IL\, 61602\, United States
END:VEVENT
BEGIN:VEVENT
DTSTART;VALUE=DATE:20260502
DTEND;VALUE=DATE:20260503
DTSTAMP:20260420T125604
CREATED:20250914T010535Z
LAST-MODIFIED:20250914T010535Z
UID:10000133-1777680000-1777766399@www.venuechisca.com
SUMMARY:Memphis Room
DESCRIPTION:
URL:https://www.venuechisca.com/cal/memphis-room-12/2026-05-02/
LOCATION:Venue Chisca\, 1009 SW Washington St\, IL\, 61602\, United States
END:VEVENT
BEGIN:VEVENT
DTSTART;VALUE=DATE:20260502
DTEND;VALUE=DATE:20260503
DTSTAMP:20260420T125604
CREATED:20250916T194837Z
LAST-MODIFIED:20250916T194837Z
UID:10000258-1777680000-1777766399@www.venuechisca.com
SUMMARY:Olive & Oak
DESCRIPTION:
URL:https://www.venuechisca.com/cal/olive-oak-8/
LOCATION:Venue Chisca\, 1009 SW Washington St\, IL\, 61602\, United States
END:VEVENT
BEGIN:VEVENT
DTSTART;VALUE=DATE:20260508
DTEND;VALUE=DATE:20260509
DTSTAMP:20260420T125604
CREATED:20250914T010150Z
LAST-MODIFIED:20250914T010150Z
UID:10000116-1778198400-1778284799@www.venuechisca.com
SUMMARY:Memphis Room
DESCRIPTION:
URL:https://www.venuechisca.com/cal/memphis-room-11/2026-05-08/
LOCATION:Venue Chisca\, 1009 SW Washington St\, IL\, 61602\, United States
END:VEVENT
BEGIN:VEVENT
DTSTART;VALUE=DATE:20260508
DTEND;VALUE=DATE:20260509
DTSTAMP:20260420T125604
CREATED:20250914T010752Z
LAST-MODIFIED:20250914T010752Z
UID:10000138-1778198400-1778284799@www.venuechisca.com
SUMMARY:Ballroom + Quarter
DESCRIPTION:
URL:https://www.venuechisca.com/cal/ballroom-quarter-5/2026-05-08/
LOCATION:Venue Chisca\, 1009 SW Washington St\, IL\, 61602\, United States
END:VEVENT
BEGIN:VEVENT
DTSTART;VALUE=DATE:20260508
DTEND;VALUE=DATE:20260509
DTSTAMP:20260420T125604
CREATED:20250916T194724Z
LAST-MODIFIED:20250916T194724Z
UID:10000255-1778198400-1778284799@www.venuechisca.com
SUMMARY:Olive & Oak
DESCRIPTION:
URL:https://www.venuechisca.com/cal/olive-oak-7/2026-05-08/
LOCATION:Venue Chisca\, 1009 SW Washington St\, IL\, 61602\, United States
END:VEVENT
BEGIN:VEVENT
DTSTART;VALUE=DATE:20260509
DTEND;VALUE=DATE:20260510
DTSTAMP:20260420T125604
CREATED:20250914T010535Z
LAST-MODIFIED:20250914T010535Z
UID:10000134-1778284800-1778371199@www.venuechisca.com
SUMMARY:Memphis Room
DESCRIPTION:
URL:https://www.venuechisca.com/cal/memphis-room-12/2026-05-09/
LOCATION:Venue Chisca\, 1009 SW Washington St\, IL\, 61602\, United States
END:VEVENT
BEGIN:VEVENT
DTSTART;VALUE=DATE:20260515
DTEND;VALUE=DATE:20260516
DTSTAMP:20260420T125604
CREATED:20250914T010150Z
LAST-MODIFIED:20250914T010150Z
UID:10000117-1778803200-1778889599@www.venuechisca.com
SUMMARY:Memphis Room
DESCRIPTION:
URL:https://www.venuechisca.com/cal/memphis-room-11/2026-05-15/
LOCATION:Venue Chisca\, 1009 SW Washington St\, IL\, 61602\, United States
END:VEVENT
BEGIN:VEVENT
DTSTART;VALUE=DATE:20260515
DTEND;VALUE=DATE:20260516
DTSTAMP:20260420T125604
CREATED:20250914T010752Z
LAST-MODIFIED:20250914T010752Z
UID:10000139-1778803200-1778889599@www.venuechisca.com
SUMMARY:Ballroom + Quarter
DESCRIPTION:
URL:https://www.venuechisca.com/cal/ballroom-quarter-5/2026-05-15/
LOCATION:Venue Chisca\, 1009 SW Washington St\, IL\, 61602\, United States
END:VEVENT
BEGIN:VEVENT
DTSTART;VALUE=DATE:20260515
DTEND;VALUE=DATE:20260516
DTSTAMP:20260420T125604
CREATED:20250916T194724Z
LAST-MODIFIED:20250916T194724Z
UID:10000256-1778803200-1778889599@www.venuechisca.com
SUMMARY:Olive & Oak
DESCRIPTION:
URL:https://www.venuechisca.com/cal/olive-oak-7/2026-05-15/
LOCATION:Venue Chisca\, 1009 SW Washington St\, IL\, 61602\, United States
END:VEVENT
BEGIN:VEVENT
DTSTART;VALUE=DATE:20260516
DTEND;VALUE=DATE:20260517
DTSTAMP:20260420T125604
CREATED:20250916T194933Z
LAST-MODIFIED:20250916T194933Z
UID:10000259-1778889600-1778975999@www.venuechisca.com
SUMMARY:Olive & Oak
DESCRIPTION:
URL:https://www.venuechisca.com/cal/olive-oak-9/
LOCATION:Venue Chisca\, 1009 SW Washington St\, IL\, 61602\, United States
END:VEVENT
BEGIN:VEVENT
DTSTART;VALUE=DATE:20260522
DTEND;VALUE=DATE:20260523
DTSTAMP:20260420T125604
CREATED:20250914T010150Z
LAST-MODIFIED:20250914T010150Z
UID:10000118-1779408000-1779494399@www.venuechisca.com
SUMMARY:Memphis Room
DESCRIPTION:
URL:https://www.venuechisca.com/cal/memphis-room-11/2026-05-22/
LOCATION:Venue Chisca\, 1009 SW Washington St\, IL\, 61602\, United States
END:VEVENT
BEGIN:VEVENT
DTSTART;VALUE=DATE:20260522
DTEND;VALUE=DATE:20260523
DTSTAMP:20260420T125604
CREATED:20250914T010752Z
LAST-MODIFIED:20250914T010752Z
UID:10000140-1779408000-1779494399@www.venuechisca.com
SUMMARY:Ballroom + Quarter
DESCRIPTION:
URL:https://www.venuechisca.com/cal/ballroom-quarter-5/2026-05-22/
LOCATION:Venue Chisca\, 1009 SW Washington St\, IL\, 61602\, United States
END:VEVENT
BEGIN:VEVENT
DTSTART;VALUE=DATE:20260522
DTEND;VALUE=DATE:20260523
DTSTAMP:20260420T125604
CREATED:20250916T194724Z
LAST-MODIFIED:20250916T194724Z
UID:10000257-1779408000-1779494399@www.venuechisca.com
SUMMARY:Olive & Oak
DESCRIPTION:
URL:https://www.venuechisca.com/cal/olive-oak-7/2026-05-22/
LOCATION:Venue Chisca\, 1009 SW Washington St\, IL\, 61602\, United States
END:VEVENT
BEGIN:VEVENT
DTSTART;VALUE=DATE:20260523
DTEND;VALUE=DATE:20260524
DTSTAMP:20260420T125604
CREATED:20250914T010535Z
LAST-MODIFIED:20250914T010535Z
UID:10000136-1779494400-1779580799@www.venuechisca.com
SUMMARY:Memphis Room
DESCRIPTION:
URL:https://www.venuechisca.com/cal/memphis-room-12/2026-05-23/
LOCATION:Venue Chisca\, 1009 SW Washington St\, IL\, 61602\, United States
END:VEVENT
END:VCALENDAR