BEGIN:VCALENDAR
VERSION:2.0
PRODID:-//Venue Chisca - ECPv6.15.15//NONSGML v1.0//EN
CALSCALE:GREGORIAN
METHOD:PUBLISH
X-WR-CALNAME:Venue Chisca
X-ORIGINAL-URL:https://www.venuechisca.com
X-WR-CALDESC:Events for Venue Chisca
REFRESH-INTERVAL;VALUE=DURATION:PT1H
X-Robots-Tag:noindex
X-PUBLISHED-TTL:PT1H
BEGIN:VTIMEZONE
TZID:America/Chicago
BEGIN:DAYLIGHT
TZOFFSETFROM:-0600
TZOFFSETTO:-0500
TZNAME:CDT
DTSTART:20250309T080000
END:DAYLIGHT
BEGIN:STANDARD
TZOFFSETFROM:-0500
TZOFFSETTO:-0600
TZNAME:CST
DTSTART:20251102T070000
END:STANDARD
BEGIN:DAYLIGHT
TZOFFSETFROM:-0600
TZOFFSETTO:-0500
TZNAME:CDT
DTSTART:20260308T080000
END:DAYLIGHT
BEGIN:STANDARD
TZOFFSETFROM:-0500
TZOFFSETTO:-0600
TZNAME:CST
DTSTART:20261101T070000
END:STANDARD
BEGIN:DAYLIGHT
TZOFFSETFROM:-0600
TZOFFSETTO:-0500
TZNAME:CDT
DTSTART:20270314T080000
END:DAYLIGHT
BEGIN:STANDARD
TZOFFSETFROM:-0500
TZOFFSETTO:-0600
TZNAME:CST
DTSTART:20271107T070000
END:STANDARD
END:VTIMEZONE
BEGIN:VEVENT
DTSTART;VALUE=DATE:20260620
DTEND;VALUE=DATE:20260621
DTSTAMP:20260421T070650
CREATED:20251016T163317Z
LAST-MODIFIED:20251016T163317Z
UID:10000330-1781913600-1781999999@www.venuechisca.com
SUMMARY:Memphis Room
DESCRIPTION:
URL:https://www.venuechisca.com/cal/memphis-room-13/2026-06-20/
LOCATION:Venue Chisca\, 1009 SW Washington St\, IL\, 61602\, United States
CATEGORIES:Memphis Room
END:VEVENT
BEGIN:VEVENT
DTSTART;VALUE=DATE:20260627
DTEND;VALUE=DATE:20260628
DTSTAMP:20260421T070650
CREATED:20251016T163317Z
LAST-MODIFIED:20251016T163317Z
UID:10000331-1782518400-1782604799@www.venuechisca.com
SUMMARY:Memphis Room
DESCRIPTION:
URL:https://www.venuechisca.com/cal/memphis-room-13/2026-06-27/
LOCATION:Venue Chisca\, 1009 SW Washington St\, IL\, 61602\, United States
CATEGORIES:Memphis Room
END:VEVENT
END:VCALENDAR